BEGIN:VCALENDAR
VERSION:2.0
PRODID:-//Visit Space Coast - ECPv6.2.0.1//NONSGML v1.0//EN
CALSCALE:GREGORIAN
METHOD:PUBLISH
X-WR-CALNAME:Visit Space Coast
X-ORIGINAL-URL:https://www.visitspacecoast.com
X-WR-CALDESC:Events for Visit Space Coast
REFRESH-INTERVAL;VALUE=DURATION:PT1H
X-Robots-Tag:noindex
X-PUBLISHED-TTL:PT1H
BEGIN:VTIMEZONE
TZID:UTC
BEGIN:STANDARD
TZOFFSETFROM:+0000
TZOFFSETTO:+0000
TZNAME:UTC
DTSTART:20260101T000000
END:STANDARD
END:VTIMEZONE
BEGIN:VEVENT
DTSTART;TZID=UTC:20260725T170000
DTEND;TZID=UTC:20260725T220000
DTSTAMP:20260424T213126
CREATED:20240507T230822Z
LAST-MODIFIED:20260416T150348Z
UID:10000136-1784998800-1785016800@www.visitspacecoast.com
SUMMARY:5th Annual Pub Crawl for Homeless Veterans 2026
DESCRIPTION:Six (6) Drinks – one at each stop!\nTickets are $20 each in advance\, or $30 day of.\n50/50 Drawing to benefit area Homeless Veterans.\nSeveral other items awarded too including gift certificates to other area bars and restaurants and vouchers for FREE tickets to future pub crawls!\nThis is a similar event to the Annual Bicycle Bar Tour done each November in Cape Canaveral and Cocoa Beach and supports the same charity.\nStarts at Salty Sisters\, 20 N. Brevard Avenue\, Cocoa Beach\, FL 32931
URL:https://www.visitspacecoast.com/event/annual-pub-crawl-for-homeless-veterans/
LOCATION:Salty Sisters\, 24 N Brevard Ave\, Cocoa Beach\, FL\, 32931\, United States
CATEGORIES:Food & Drink Events
ATTACH;FMTTYPE=image/jpeg:https://www.visitspacecoast.com/wp-content/uploads/2024/05/Pub-Crawl-for-Homeless-Veterans-Cocoa-Beach-2026-Banner.jpg
END:VEVENT
END:VCALENDAR