BEGIN:VCALENDAR
VERSION:2.0
PRODID:-//Visit Space Coast - ECPv6.2.0.1//NONSGML v1.0//EN
CALSCALE:GREGORIAN
METHOD:PUBLISH
X-WR-CALNAME:Visit Space Coast
X-ORIGINAL-URL:https://www.visitspacecoast.com
X-WR-CALDESC:Events for Visit Space Coast
REFRESH-INTERVAL;VALUE=DURATION:PT1H
X-Robots-Tag:noindex
X-PUBLISHED-TTL:PT1H
BEGIN:VTIMEZONE
TZID:UTC
BEGIN:STANDARD
TZOFFSETFROM:+0000
TZOFFSETTO:+0000
TZNAME:UTC
DTSTART:20260101T000000
END:STANDARD
END:VTIMEZONE
BEGIN:VEVENT
DTSTART;TZID=UTC:20260514T080000
DTEND;TZID=UTC:20260517T220000
DTSTAMP:20260420T064705
CREATED:20240116T194756Z
LAST-MODIFIED:20260415T155137Z
UID:10000076-1778745600-1779055200@www.visitspacecoast.com
SUMMARY:Thunder on Cocoa Beach
DESCRIPTION:This year\, Thunder on Cocoa Beach offshore powerboat races will be returning for its 16th year on Florida’s Space Coast\, scheduled for May 14-17\, 2026. Join us for 4 days and nights of parties and lots of racing action. The Space Coast Super Boat Grand Prix is one of the most popular attractions for the whole family in Central Florida. The event\, one of the largest in Central Florida\,  draws the top race teams in the World to compete in various classes with Class 1 reaching speeds over 175 mph.
URL:https://www.visitspacecoast.com/event/thunder-on-cocoa-beach/
LOCATION:Lori Wilson Park\, 1500 N Atlantic Ave\, Cocoa Beach\, FL\, 32931\, United States
CATEGORIES:Sports Events
ATTACH;FMTTYPE=image/jpeg:https://www.visitspacecoast.com/wp-content/uploads/2024/01/thunder-on-CB-Logo.jpg
END:VEVENT
END:VCALENDAR