BEGIN:VCALENDAR
VERSION:2.0
PRODID:-//Visit Space Coast - ECPv6.2.0.1//NONSGML v1.0//EN
CALSCALE:GREGORIAN
METHOD:PUBLISH
X-ORIGINAL-URL:https://www.visitspacecoast.com
X-WR-CALDESC:Events for Visit Space Coast
REFRESH-INTERVAL;VALUE=DURATION:PT1H
X-Robots-Tag:noindex
X-PUBLISHED-TTL:PT1H
BEGIN:VTIMEZONE
TZID:America/Halifax
BEGIN:DAYLIGHT
TZOFFSETFROM:-0400
TZOFFSETTO:-0300
TZNAME:ADT
DTSTART:20260308T060000
END:DAYLIGHT
BEGIN:STANDARD
TZOFFSETFROM:-0300
TZOFFSETTO:-0400
TZNAME:AST
DTSTART:20261101T050000
END:STANDARD
END:VTIMEZONE
BEGIN:VEVENT
DTSTART;TZID=America/Halifax:20260307T073000
DTEND;TZID=America/Halifax:20260307T130000
DTSTAMP:20260426T010301
CREATED:20250102T160723Z
LAST-MODIFIED:20260109T171851Z
UID:10000436-1772868600-1772888400@www.visitspacecoast.com
SUMMARY:ACS Gateway to Space
DESCRIPTION:In partnership with Space Florida the 10th Annual Gateway to Space 5K/10K will take place on March 7th\, 2026 on the iconic Launch and Landing Facility (formerly known as Shuttle Landing Facility) at Kennedy Space Center. Join us on the ‘out of this world’ start line and keep your eyes open on the course for your chance to see landing marks from the shuttles of our past.
URL:https://www.visitspacecoast.com/event/acs-gateway-to-space/
LOCATION:Kennedy Space Center Visitor Complex\, Space Commerce Way\, Merritt Island\, FL\, 32953\, United States
CATEGORIES:5Ks/Marathons,Sports Events
ATTACH;FMTTYPE=image/jpeg:https://www.visitspacecoast.com/wp-content/uploads/2025/01/ACS-Gateway-to-Space-Race-Logo.jpg
END:VEVENT
BEGIN:VEVENT
DTSTART;TZID=America/Halifax:20260403T180000
DTEND;TZID=America/Halifax:20260403T220000
DTSTAMP:20260426T010301
CREATED:20260306T183148Z
LAST-MODIFIED:20260306T183148Z
UID:10001325-1775239200-1775253600@www.visitspacecoast.com
SUMMARY:Kennedy Under the Stars: Yuri's Night Edition
DESCRIPTION:Step into a global celebration of space\, unity\, and human possibilities as Kennedy Under the Stars joins with Yuri’s Night to host their official East Coast flagship event. This year\, the worldwide organization honors the first human in space and the launch of the first Space Shuttle\, both with anniversaries on April 12. \nFor one unforgettable night\, the visitor complex transforms into an illuminated\, after‑hours experience where space enthusiasts and explorers of all ages gather to enjoy visitor complex attractions after hours\, meet veteran astronauts\, hear from special guests\, and have some fun on the dance floor. \nYuri’s Night parties happen around the world—but only here can you celebrate at America’s premier spaceport.\nTickets for Kennedy Under the Stars: Yuri’s Night Edition will be on sale soon!
URL:https://www.visitspacecoast.com/event/kennedy-under-the-stars-yuris-night-edition/
LOCATION:Kennedy Space Center Visitor Complex\, Space Commerce Way\, Merritt Island\, FL\, 32953\, United States
CATEGORIES:Festivals,Kid Friendly Events,Space Related Events
ATTACH;FMTTYPE=image/webp:https://www.visitspacecoast.com/wp-content/uploads/2026/03/EVENT_KennedyUnderTheStars_2026_04-1.webp
END:VEVENT
END:VCALENDAR