BEGIN:VCALENDAR
VERSION:2.0
PRODID:-//Visit Space Coast - ECPv6.2.0.1//NONSGML v1.0//EN
CALSCALE:GREGORIAN
METHOD:PUBLISH
X-ORIGINAL-URL:https://www.visitspacecoast.com
X-WR-CALDESC:Events for Visit Space Coast
REFRESH-INTERVAL;VALUE=DURATION:PT1H
X-Robots-Tag:noindex
X-PUBLISHED-TTL:PT1H
BEGIN:VTIMEZONE
TZID:America/Halifax
BEGIN:DAYLIGHT
TZOFFSETFROM:-0400
TZOFFSETTO:-0300
TZNAME:ADT
DTSTART:20260308T060000
END:DAYLIGHT
BEGIN:STANDARD
TZOFFSETFROM:-0300
TZOFFSETTO:-0400
TZNAME:AST
DTSTART:20261101T050000
END:STANDARD
END:VTIMEZONE
BEGIN:VEVENT
DTSTART;TZID=America/Halifax:20260523T110000
DTEND;TZID=America/Halifax:20260523T183000
DTSTAMP:20260420T072528
CREATED:20241231T153342Z
LAST-MODIFIED:20260109T145959Z
UID:10000432-1779534000-1779561000@www.visitspacecoast.com
SUMMARY:9th Annual NKF Bicycle Bar Tour of Hope
DESCRIPTION:9th Annual NKF Bicycle Bar Tour of Hope\, May 23\, 11:00 am to 6:30 pm! \nLeisurely ride from Port Canaveral to Cocoa Beach & back. Supports the National Kidney Foundation of Florida. \n50/50 drawing AND multiple door prize winners. Eight (8) Drinks – one at each stop! Tickets are $25 each in advance\, or $35 day of. Starts at Fishlips Bar & Grill
URL:https://www.visitspacecoast.com/event/9th-annual-nkf-bicycle-bar-tour-of-hope/
LOCATION:FISHLIPS WATERFRONT BAR & GRILL\, 610 Glen Cheek Dr\, Port Canaveral\, FL\, 32920
CATEGORIES:Food & Drink Events
ATTACH;FMTTYPE=image/jpeg:https://www.visitspacecoast.com/wp-content/uploads/2024/12/9th-Annual-NKF-Bicycle-Bar-Tour-of-Hope-1.jpg
END:VEVENT
END:VCALENDAR