BEGIN:VCALENDAR
VERSION:2.0
PRODID:-//Visit Space Coast - ECPv6.2.0.1//NONSGML v1.0//EN
CALSCALE:GREGORIAN
METHOD:PUBLISH
X-WR-CALNAME:Visit Space Coast
X-ORIGINAL-URL:https://www.visitspacecoast.com
X-WR-CALDESC:Events for Visit Space Coast
REFRESH-INTERVAL;VALUE=DURATION:PT1H
X-Robots-Tag:noindex
X-PUBLISHED-TTL:PT1H
BEGIN:VTIMEZONE
TZID:America/Halifax
BEGIN:DAYLIGHT
TZOFFSETFROM:-0400
TZOFFSETTO:-0300
TZNAME:ADT
DTSTART:20260308T060000
END:DAYLIGHT
BEGIN:STANDARD
TZOFFSETFROM:-0300
TZOFFSETTO:-0400
TZNAME:AST
DTSTART:20261101T050000
END:STANDARD
TZID:UTC
BEGIN:STANDARD
TZOFFSETFROM:+0000
TZOFFSETTO:+0000
TZNAME:UTC
DTSTART:20260101T000000
END:STANDARD
END:VTIMEZONE
BEGIN:VEVENT
DTSTART;TZID=America/Halifax:20260411T080000
DTEND;TZID=America/Halifax:20260411T110000
DTSTAMP:20260421T070704
CREATED:20260107T155417Z
LAST-MODIFIED:20260107T155417Z
UID:10001266-1775894400-1775905200@www.visitspacecoast.com
SUMMARY:Heroes for Military Kids 5k/Kids Dash
DESCRIPTION:APRIL is Month of the MILITARY CHILD did you know that? AVET Project\, an all-volunteer 501(c)(3)nonprofit\, is thrilled to announce the 1st HEROES FOR MILITARY KIDS 5K/Kids Dash being held at 8am in The Avenue Viera April 11\, 2026.\nWe appreciate you showing love for our HEROES FOR MILITARY KIDS 5K/Kids Dash event! Supporting AVET Project’s “HEROES FOR MILITARY KIDS 5K/Kids Dash” means military families get free events and life-changing programs that help them thrive..
URL:https://www.visitspacecoast.com/event/heroes-for-military-kids-5k-kids-dash/
LOCATION:THE AVENUE VIERA\, 2261 Town Center Ave\, Melbourne\, FL\, 32940
CATEGORIES:Running Events
ATTACH;FMTTYPE=image/jpeg:https://www.visitspacecoast.com/wp-content/uploads/2026/01/2026-5kmilkid-peace-flyers.jpg
END:VEVENT
BEGIN:VEVENT
DTSTART;TZID=America/Halifax:20260329T080000
DTEND;TZID=America/Halifax:20260329T120000
DTSTAMP:20260421T070704
CREATED:20260212T153343Z
LAST-MODIFIED:20260304T171408Z
UID:10001291-1774771200-1774785600@www.visitspacecoast.com
SUMMARY:Getting2Zero 5k Run/Walk
DESCRIPTION:Race Day @ Eau Gallie Square (1453 Highland Avenue\, Melbourne\, FL)\nSunday\, March 29th – Timeline:\n6:30 AM: Packet Pickup & Late Registration Opens\n7:45 AM: Packet Pickup & Late Registration Ends\n8:00 AM: 5K Start! \nAWARDS: (Immediately following the race)\nTop 3 Overall M & F\nTop Masters M & F (40+)\nTop M & F in each age group:\n13 & under\, 14-19\, 20-29\, 30-39\, 40-49\, 50-59\, 60-69\, 70+ \nFees:\n5K Run/Walk: $30 (Race Day $35)\nChildren (12 & under): $20 (Race Day $25)
URL:https://www.visitspacecoast.com/event/getting2zero-5k/
LOCATION:Eau Gallie Square\, 1453 Highland Avenue\, Melbourne\, FL\, 32935\, United States
CATEGORIES:5Ks/Marathons,Running Events,Sports Events
ATTACH;FMTTYPE=image/png:https://www.visitspacecoast.com/wp-content/uploads/2026/02/Getting2Zero-5K-Flyer.png
END:VEVENT
BEGIN:VEVENT
DTSTART;TZID=America/Halifax:20260321T073000
DTEND;TZID=America/Halifax:20260321T100000
DTSTAMP:20260421T070704
CREATED:20260225T155941Z
LAST-MODIFIED:20260225T155941Z
UID:10001298-1774078200-1774087200@www.visitspacecoast.com
SUMMARY:Downtown Melbourne 5K Benefiting The Haven for Children
DESCRIPTION:For the 45th year\, the Downtown Melbourne 5k proceeds will be donated and benefit the children who reside at The Haven.\nThe Haven continues to be heroic\, a safe sanctuary\, to foster children in Brevard County. \nThey provide children with a therapeutic environment\, safe from abuse and neglect. The first 600 entries will receive a finisher medal\, race shirt and swag bags. Top Finishers will also be awarded prizes!
URL:https://www.visitspacecoast.com/event/downtown-melbourne-5k-benefiting-the-haven-for-children/
LOCATION:Claude Edge Front Street Park\, 2205 Front Street Park\, Melbourne\, FL\, 32901\, United States
CATEGORIES:5Ks/Marathons,Running Events
ATTACH;FMTTYPE=image/png:https://www.visitspacecoast.com/wp-content/uploads/2026/02/Downtown-Melbourne-5K-Benefiting-The-Haven-for-Children-Flyer.png
END:VEVENT
BEGIN:VEVENT
DTSTART;TZID=America/Halifax:20260314T070000
DTEND;TZID=America/Halifax:20260314T120000
DTSTAMP:20260421T070704
CREATED:20260306T181616Z
LAST-MODIFIED:20260306T181616Z
UID:10001323-1773471600-1773489600@www.visitspacecoast.com
SUMMARY:Medal of Honor 5K/Car Show
DESCRIPTION:This is a charity 5K/Car Show fundraiser to support local military families\, veterans in need due to homelessness or economic struggles\, as well as support youth scholarship programs. Organized by Maurice Morris\, the son of Melvin Morris\, a Medal of Honor recipient and resident of Brevard County\, in honor of National Medal of Honor Day\, 25 March 2026. Cryderman’s Barbeque will have a food truck present at the event with a portion of the proceeds benefitting homeless Veterans of Brevard County. Please consider entering your Antique\, Muscle Car\, Truck \, Custom\, Motorcycle\, or Home Build into the Show.
URL:https://www.visitspacecoast.com/event/medal-of-honor-5k-car-show/
LOCATION:Brevard Veterans Memorial Center\, 400 S Sykes Creek Pkwy\, Merritt Island\, FL\, 32952\, United States
CATEGORIES:5Ks/Marathons,Running Events
ATTACH;FMTTYPE=image/jpeg:https://www.visitspacecoast.com/wp-content/uploads/2026/03/Medal-of-Honor-5K-Car-Show-2.jpg
END:VEVENT
BEGIN:VEVENT
DTSTART;TZID=America/Halifax:20260221T080000
DTEND;TZID=America/Halifax:20260221T120000
DTSTAMP:20260421T070704
CREATED:20250724T184422Z
LAST-MODIFIED:20250724T184422Z
UID:10000834-1771660800-1771675200@www.visitspacecoast.com
SUMMARY:The Flutie 5K for Autism: Satellite Beach\, FL
DESCRIPTION:Run\, walk\, or roll for autism acceptance! Together with the Autism Coalition of Brevard\, all contributions will make a difference in the Florida Autism Community!\nOver its history\, the Flutie Foundation has distributed over $20 million to schools and organizations who provide essential services\, programs\, support and more for people and families with autism.
URL:https://www.visitspacecoast.com/event/the-flutie-5k-for-autism-satellite-beach-fl/
LOCATION:David R Schechter Community Center\, 1089 S Patrick Dr.\, Satellite Beach\, FL\, 32937\, United States
CATEGORIES:Running Events
ATTACH;FMTTYPE=image/jpeg:https://www.visitspacecoast.com/wp-content/uploads/2025/07/The-Flutie-5K-for-Autism-Banner.jpg
END:VEVENT
BEGIN:VEVENT
DTSTART;TZID=UTC:20260215T070000
DTEND;TZID=UTC:20260215T100000
DTSTAMP:20260421T070704
CREATED:20231205T203021Z
LAST-MODIFIED:20251112T184713Z
UID:10000039-1771138800-1771149600@www.visitspacecoast.com
SUMMARY:Eye of the Dragon 10K & Tail of the Lizard 2 Mile
DESCRIPTION:The 38th annual Eye of the Dragon 10K & Tail of the Lizard 2 Mile will take place on Sunday\, February 15\, 2026\, offering runners the opportunity to join a time-honored Space Coast tradition. The USATF certified courses (FL22006JK) feature challenging out-and-back routes over the Eau Gallie Causeway and the Indian River\, where competitors will find both the climb and the view absolutely breathtaking. This year’s 10K has been named the RRCA Southern Championship 10K Race. Additionally\, participants who take on both the 10K and 2 Mile races in the Slay the Beast Challenge will earn three fierce medals for their efforts. Are you ready to face the Dragon?
URL:https://www.visitspacecoast.com/event/eye-of-the-dragon-10k-tail-of-the-lizard-2-mile/
LOCATION:Eau Galle Civic Center\, 1551 Highland Ave\, Melbourne\, FL\, 32935\, United States
CATEGORIES:5Ks/Marathons,Running Events
ATTACH;FMTTYPE=image/png:https://www.visitspacecoast.com/wp-content/uploads/2023/12/Eye-of-the-Dragon-10K-Tail-of-the-Lizard-2-Mile-Flyer-2026.png
END:VEVENT
END:VCALENDAR