BEGIN:VCALENDAR
VERSION:2.0
PRODID:-//Visit Space Coast - ECPv6.2.0.1//NONSGML v1.0//EN
CALSCALE:GREGORIAN
METHOD:PUBLISH
X-WR-CALNAME:Visit Space Coast
X-ORIGINAL-URL:https://www.visitspacecoast.com
X-WR-CALDESC:Events for Visit Space Coast
REFRESH-INTERVAL;VALUE=DURATION:PT1H
X-Robots-Tag:noindex
X-PUBLISHED-TTL:PT1H
BEGIN:VTIMEZONE
TZID:America/Halifax
BEGIN:DAYLIGHT
TZOFFSETFROM:-0400
TZOFFSETTO:-0300
TZNAME:ADT
DTSTART:20260308T060000
END:DAYLIGHT
BEGIN:STANDARD
TZOFFSETFROM:-0300
TZOFFSETTO:-0400
TZNAME:AST
DTSTART:20261101T050000
END:STANDARD
TZID:UTC
BEGIN:STANDARD
TZOFFSETFROM:+0000
TZOFFSETTO:+0000
TZNAME:UTC
DTSTART:20260101T000000
END:STANDARD
END:VTIMEZONE
BEGIN:VEVENT
DTSTART;TZID=America/Halifax:20260624T190000
DTEND;TZID=America/Halifax:20260625T210000
DTSTAMP:20260425T124520
CREATED:20251120T154300Z
LAST-MODIFIED:20260421T193551Z
UID:10001239-1782327600-1782421200@www.visitspacecoast.com
SUMMARY:MMB Concert Band: Songs for America-250 Years
DESCRIPTION:Staci Rosbury\, Conductor. FREE CONCERT. As our country celebrates the 250th anniversary of the signing of the Declaration of Independence\, join us for stirring music like America The Beautiful\, music from Stephen Foster\, American jazz\, and great songs from Irving Berlin. This is a FREE CONCERT.
URL:https://www.visitspacecoast.com/event/mmb-concert-band-songs-for-america-250-years/
LOCATION:MELBOURNE AUDITORIUM\, 625 E Hibiscus Blvd 32901\, Melbourne\, FL\, 32901
CATEGORIES:Concert/Live Music Events
ATTACH;FMTTYPE=image/jpeg:https://www.visitspacecoast.com/wp-content/uploads/2025/11/Songs-for-America-Thumb-1.jpg
END:VEVENT
BEGIN:VEVENT
DTSTART;TZID=UTC:20260704T200000
DTEND;TZID=UTC:20260704T220000
DTSTAMP:20260425T124520
CREATED:20240528T230531Z
LAST-MODIFIED:20260415T174652Z
UID:10000155-1783195200-1783202400@www.visitspacecoast.com
SUMMARY:July 4th Symphony Under the Stars
DESCRIPTION:Join your Brevard Symphony Orchestra this July 4th for our FREE annual Symphony Under the Stars concert at Cocoa Riverfront Park. Be sure to bring a chair or blanket as you enjoy a free concert filled with patriotic favorites. The concert starts at 8:00 p.m.\, with fireworks starting at 9:15 p.m. Food trucks and local restaurants will be open and available before the concert. \nOur emcee again this year is Mindy from Mindy & Company on Lite Rock 99.3! \nJoin us at our VIP BBQ before the concert! Your VIP ticket includes reserved parking right across the street\, a BBQ dinner inside the Cocoa Civic center\, and reserved concert seating right in front of the stage! Dinner will be served at 6:30 PM. VIP tickets start at $65 for season subscribers and $80 for non-subscribers. We would love to see you there!
URL:https://www.visitspacecoast.com/event/july-4th-symphony-under-the-stars/
LOCATION:Cocoa Riverfront Park\, 401 Riveredge Blvd.\, Cocoa\, FL\, 32922\, United States
CATEGORIES:Concert/Live Music Events,Kid Friendly Events,Seasonal Event
ATTACH;FMTTYPE=image/jpeg:https://www.visitspacecoast.com/wp-content/uploads/2024/05/Symphony-Under-The-Stars-2026-2.jpg
END:VEVENT
BEGIN:VEVENT
DTSTART;TZID=America/Halifax:20261003T110000
DTEND;TZID=America/Halifax:20261003T210000
DTSTAMP:20260425T124520
CREATED:20260402T161145Z
LAST-MODIFIED:20260402T161145Z
UID:10001337-1791025200-1791061200@www.visitspacecoast.com
SUMMARY:The Rise of The Pyrate Republic
DESCRIPTION:For the first time ever\, the legendary Pyrate Republic is open to the public — and it’s takin’ over beautiful Barefoot Bay for a full day of high-seas adventure!\nSet against a breathtaking lakefront backdrop\, this spectacular celebration unfolds poolside at a stunning Polynesian-style resort\, overlooking the water. Sunshine\, swaying palms\, rolling waves of music\, flowing rum\, and nonstop action await ye from morning ‘til night!\nPrepare for a Full Day of Swashbuckling Fun: \n\nLive music all day long to keep the deck rockin’\nA thrilling Pirate Invasion you won’t see comin’\nA Treasure Hunt fit for the boldest buccaneers\nA fiery Pirate Dance Troupe\nA Best-Dressed Pirate Contest (Dress to impress… or to plunder!) A legendary crowning of the Pyrate King and Queen\nMouthwatering food & spirits — and yes… LOTS OF RUM!\n\nHeadlining the Lake Stage | 5 PM – 9 PM\nThe waters will thunder when Joe Calautti’s band Juiced storms the stage as The Flying Cannonballs! Expect high-energy\, crowd-rockin’ pirate anthems as the sun sets over the lake.\nBuccaneer Bazaar | 11 AM – 6 PM\nExplore a treasure trove of merchants\, craftsmen\, and artisans offering one-of-a-kind finds worthy of any captain’s quarters.\nThis isn’t just an event — it’s an all-day pirate spectacle filled with adventure\, music\, mischief\, and memories in the makin’.\nSo grab your crew\, lace up your boots\, hoist the sails\, and chart your course for the most exciting pirate party of the year!\nAdventure Awaits at the Pyrate Rendezvous!
URL:https://www.visitspacecoast.com/event/the-rise-of-the-pyrate-republic/
LOCATION:Barefoot Bay Recreation District\, 625 Barefoot Blvd\, Sebastian\, FL\, 32976\, United States
CATEGORIES:Concert/Live Music Events,Festivals,Food & Drink Events
ATTACH;FMTTYPE=image/png:https://www.visitspacecoast.com/wp-content/uploads/2026/04/Rise-of-the-Pyrate-Republic-Final-Flyer-2.png
END:VEVENT
BEGIN:VEVENT
DTSTART;TZID=America/Halifax:20261016T180000
DTEND;TZID=America/Halifax:20261018T190000
DTSTAMP:20260425T124520
CREATED:20250926T160759Z
LAST-MODIFIED:20260416T142647Z
UID:10001174-1792173600-1792350000@www.visitspacecoast.com
SUMMARY:Heart Behind the Hits - A HIT Songwriter Experience
DESCRIPTION:A weekend of Nashville Songwriters singing their hit songs. Kicking off the weekend with Friday Fest\, October 16th from 6:00-10:00pm downtown Cocoa Beach closes Minutemen Cswy with the streets lined with unique vendors\, food trucks and beer tents. Nashville songwriters on the stage located at city hall. More information and a schedule of artists and venues coming soon. The weekend’s events are free and everyone is welcomed!
URL:https://www.visitspacecoast.com/event/cocoa-beach-hit-songwriter-festival/
LOCATION:DOWNTOWN COCOA BEACH\, 20 N. Brevard Avenue\, Cocoa Beach\, FL\, 32931
CATEGORIES:Concert/Live Music Events,Festivals
ATTACH;FMTTYPE=image/jpeg:https://www.visitspacecoast.com/wp-content/uploads/2025/09/Heart-Behind-the-Hits-A-HIT-Songwriter-Experience-Flyer.jpeg
END:VEVENT
END:VCALENDAR