BEGIN:VCALENDAR
VERSION:2.0
PRODID:-//Visit Space Coast - ECPv6.2.0.1//NONSGML v1.0//EN
CALSCALE:GREGORIAN
METHOD:PUBLISH
X-ORIGINAL-URL:https://www.visitspacecoast.com
X-WR-CALDESC:Events for Visit Space Coast
REFRESH-INTERVAL;VALUE=DURATION:PT1H
X-Robots-Tag:noindex
X-PUBLISHED-TTL:PT1H
BEGIN:VTIMEZONE
TZID:America/Halifax
BEGIN:DAYLIGHT
TZOFFSETFROM:-0400
TZOFFSETTO:-0300
TZNAME:ADT
DTSTART:20260308T060000
END:DAYLIGHT
BEGIN:STANDARD
TZOFFSETFROM:-0300
TZOFFSETTO:-0400
TZNAME:AST
DTSTART:20261101T050000
END:STANDARD
END:VTIMEZONE
BEGIN:VEVENT
DTSTART;TZID=America/Halifax:20260412T140000
DTEND;TZID=America/Halifax:20260412T160000
DTSTAMP:20260424T060507
CREATED:20250124T154352Z
LAST-MODIFIED:20260109T152959Z
UID:10000448-1776002400-1776009600@www.visitspacecoast.com
SUMMARY:Jazz Concert Showcase of Scholarship Winners featuring the Ron Teixeira Trio
DESCRIPTION:The Space Coast Jazz Society is proud to invest in the future of jazz. Through our scholarship program\, we’re nurturing the next generation of jazz talent\, providing them with resources to advance their education and careers. This year\, we are awarding two $1\,000 scholarships. Celebrate with us as our scholarship winners showcase their extraordinary talents! \nRon Teixeira and his trio will perform with our scholarship winners\, giving the audience an opportunity to enjoy the winners’ skills and talent. \nRon has performed in New York City midtown hotels and many jazz venues for 20 years. He has performed with a long list of celebrated jazz musicians\, including Frank Morgan\, Bert Francis\, Larry Coryell\, Nancy Kelly\, Pat Marino\, Ira Sullivan and many other national and internationally recognized jazz artists.\nGeneral admission is paid at the door. $30 for members of the Jazz Society & the Veterans Memorial Center. $35 for guests. Students are free. Bring a snack & drinks if you’d like. Tables\, chairs & a beautiful view of the river provided
URL:https://www.visitspacecoast.com/event/jazz-concert-showcase-of-scholarship-winners-featuring-the-ron-teixeira-trio/
LOCATION:Brevard Veterans Memorial Center\, 400 S Sykes Creek Pkwy\, Merritt Island\, FL\, 32952\, United States
CATEGORIES:Concert/Live Music Events
ATTACH;FMTTYPE=image/png:https://www.visitspacecoast.com/wp-content/uploads/2025/01/Jazz-Concert-Showcase-of-Scholarship-Winners-featuring-the-Ron-Teixeira-Trio.png
END:VEVENT
BEGIN:VEVENT
DTSTART;TZID=America/Halifax:20260412T190000
DTEND;TZID=America/Halifax:20260413T220000
DTSTAMP:20260424T060507
CREATED:20250624T142157Z
LAST-MODIFIED:20250624T142157Z
UID:10000806-1776020400-1776117600@www.visitspacecoast.com
SUMMARY:Meredith Willson’s THE MUSIC MAN
DESCRIPTION:There’s trouble in River City when a fast-talking salesman gets his heart stolen by the town librarian. Meredith Willson’s six-time\, Tony Award-winning musical comedy THE MUSIC MAN follows fast-talking traveling salesman\, Harold Hill\, as he cons the people of River City\, Iowa\, into buying instruments and uniforms for a boys’ band that he vows to organize – this\, despite the fact that he doesn’t know a trombone from a treble clef. His plans to skip town with the cash are foiled when he falls for Marian\, the librarian\, who transforms him into a respectable citizen by curtain’s fall. Featuring songs such as “Seventy-Six Trombones\,” “Trouble\,” “‘Til There Was You\,” “Pickalittle” and “Gary\, Indiana\,” THE MUSIC MAN is a family-friendly story to be shared with every generation. \nPerformance Schedule:\nSunday\, April 12\, 2026 – 7:00 p.m.\nMonday\, April 13\, 2026 – 7:00 p.m.
URL:https://www.visitspacecoast.com/event/meredith-willsons-the-music-man/
LOCATION:KING CENTER FOR THE PERFORMING ARTS\, 3865 N Wickham Rd\, Melbourne\, FL\, 32935
CATEGORIES:Concert/Live Music Events,Cultural Events
ATTACH;FMTTYPE=image/jpeg:https://www.visitspacecoast.com/wp-content/uploads/2025/06/Meredith-Willsons-THE-MUSIC-MAN-Logo.jpg
END:VEVENT
END:VCALENDAR