BEGIN:VCALENDAR
VERSION:2.0
PRODID:-//Visit Space Coast - ECPv6.2.0.1//NONSGML v1.0//EN
CALSCALE:GREGORIAN
METHOD:PUBLISH
X-ORIGINAL-URL:https://www.visitspacecoast.com
X-WR-CALDESC:Events for Visit Space Coast
REFRESH-INTERVAL;VALUE=DURATION:PT1H
X-Robots-Tag:noindex
X-PUBLISHED-TTL:PT1H
BEGIN:VTIMEZONE
TZID:America/Halifax
BEGIN:DAYLIGHT
TZOFFSETFROM:-0400
TZOFFSETTO:-0300
TZNAME:ADT
DTSTART:20260308T060000
END:DAYLIGHT
BEGIN:STANDARD
TZOFFSETFROM:-0300
TZOFFSETTO:-0400
TZNAME:AST
DTSTART:20261101T050000
END:STANDARD
END:VTIMEZONE
BEGIN:VEVENT
DTSTART;TZID=America/Halifax:20260410T180000
DTEND;TZID=America/Halifax:20260410T210000
DTSTAMP:20260424T060508
CREATED:20260212T143423Z
LAST-MODIFIED:20260331T150259Z
UID:10001286-1775844000-1775854800@www.visitspacecoast.com
SUMMARY:South Beaches Concert Series
DESCRIPTION:The 2026 Beachside Concert Series comes to a crescendo with Thick as Thieves making their Nancy Higgs Park debut. They’ll bring their own brand of\nrock\, classic southern\, modern\, alternative rock\, and blues. A little something for everyone to dance and tap their toes to. Free concert. *Several onsite food (for purchase) trucks available to serve your dining needs.
URL:https://www.visitspacecoast.com/event/south-beaches-concert-2/
LOCATION:Nancy Higgs Park\, 500 Old Florida Trail\, Melbourne Beach\, FL\, 32951\, United States
CATEGORIES:Concert/Live Music Events
ATTACH;FMTTYPE=image/jpeg:https://www.visitspacecoast.com/wp-content/uploads/2026/01/South-Beaches-Concert.jpeg
END:VEVENT
END:VCALENDAR