BEGIN:VCALENDAR
VERSION:2.0
PRODID:-//Visit Space Coast - ECPv6.2.0.1//NONSGML v1.0//EN
CALSCALE:GREGORIAN
METHOD:PUBLISH
X-WR-CALNAME:Visit Space Coast
X-ORIGINAL-URL:https://www.visitspacecoast.com
X-WR-CALDESC:Events for Visit Space Coast
REFRESH-INTERVAL;VALUE=DURATION:PT1H
X-Robots-Tag:noindex
X-PUBLISHED-TTL:PT1H
BEGIN:VTIMEZONE
TZID:America/Halifax
BEGIN:DAYLIGHT
TZOFFSETFROM:-0400
TZOFFSETTO:-0300
TZNAME:ADT
DTSTART:20260308T060000
END:DAYLIGHT
BEGIN:STANDARD
TZOFFSETFROM:-0300
TZOFFSETTO:-0400
TZNAME:AST
DTSTART:20261101T050000
END:STANDARD
END:VTIMEZONE
BEGIN:VEVENT
DTSTART;TZID=America/Halifax:20260404T140000
DTEND;TZID=America/Halifax:20260404T220000
DTSTAMP:20260424T060513
CREATED:20251120T154852Z
LAST-MODIFIED:20260306T191742Z
UID:10001240-1775311200-1775340000@www.visitspacecoast.com
SUMMARY:WFIT Sonic Waves Music Festival at Intracoastal Brewing Co.
DESCRIPTION:WFIT’s Sonic Waves Music Festival is returning to Intracoastal Brewing Company!\nEnjoy live music and local brews with your favorite public radio station on Saturday\, April 4th from 2-10pm. \nThe show is all ages and FREE. Follow along for more details coming your way! \nPlus – stay connected with the latest WFIT happenings! Tune into WFIT & Keller Radio\, and sign up for the WFIT Newsletter at WFIT.org\nIt’s free\, monthly\, and the best way to stay in the know about community events and local public radio.
URL:https://www.visitspacecoast.com/event/wfit-music-festival-at-intracoastal-brewing-company/
LOCATION:Intracoastal Brewing Company\, 652 W Eau Gallie Blvd\, Melbourne\, FL\, 32935\, United States
CATEGORIES:Concert/Live Music Events,Food & Drink Events,Kid Friendly Events
ATTACH;FMTTYPE=image/png:https://www.visitspacecoast.com/wp-content/uploads/2025/11/Sonic-Waves-Music-Fest_IG_2026.png
END:VEVENT
END:VCALENDAR