BEGIN:VCALENDAR
VERSION:2.0
PRODID:-//Visit Space Coast - ECPv6.2.0.1//NONSGML v1.0//EN
CALSCALE:GREGORIAN
METHOD:PUBLISH
X-ORIGINAL-URL:https://www.visitspacecoast.com
X-WR-CALDESC:Events for Visit Space Coast
REFRESH-INTERVAL;VALUE=DURATION:PT1H
X-Robots-Tag:noindex
X-PUBLISHED-TTL:PT1H
BEGIN:VTIMEZONE
TZID:America/Halifax
BEGIN:DAYLIGHT
TZOFFSETFROM:-0400
TZOFFSETTO:-0300
TZNAME:ADT
DTSTART:20260308T060000
END:DAYLIGHT
BEGIN:STANDARD
TZOFFSETFROM:-0300
TZOFFSETTO:-0400
TZNAME:AST
DTSTART:20261101T050000
END:STANDARD
END:VTIMEZONE
BEGIN:VEVENT
DTSTART;TZID=America/Halifax:20260401T190000
DTEND;TZID=America/Halifax:20260402T210000
DTSTAMP:20260424T060508
CREATED:20260306T180910Z
LAST-MODIFIED:20260306T180910Z
UID:10001322-1775070000-1775163600@www.visitspacecoast.com
SUMMARY:MMB Concert Band: Why So Serious - A Musical Romp
DESCRIPTION:Staci Rosbury\, Conductor. Circus music\, drummers\, clapping\, the Bunny Hop\, Spike Jones….nothing is too zany for inclusion on this concert. Prepare yourself for a FREE CONCERT worthy of April Fools’ Day!\nPreshow: Swingtime Bones at 6:00 PM
URL:https://www.visitspacecoast.com/event/mmb-concert-band-why-so-serious-a-musical-romp/
LOCATION:MELBOURNE AUDITORIUM\, 625 E Hibiscus Blvd 32901\, Melbourne\, FL\, 32901
CATEGORIES:Concert/Live Music Events
ATTACH;FMTTYPE=image/jpeg:https://www.visitspacecoast.com/wp-content/uploads/2026/03/Why-So-Serious_-Thumb-Copy-2.jpg
END:VEVENT
END:VCALENDAR