BEGIN:VCALENDAR
VERSION:2.0
PRODID:-//Visit Space Coast - ECPv6.2.0.1//NONSGML v1.0//EN
CALSCALE:GREGORIAN
METHOD:PUBLISH
X-ORIGINAL-URL:https://www.visitspacecoast.com
X-WR-CALDESC:Events for Visit Space Coast
REFRESH-INTERVAL;VALUE=DURATION:PT1H
X-Robots-Tag:noindex
X-PUBLISHED-TTL:PT1H
BEGIN:VTIMEZONE
TZID:UTC
BEGIN:STANDARD
TZOFFSETFROM:+0000
TZOFFSETTO:+0000
TZNAME:UTC
DTSTART:20260101T000000
END:STANDARD
END:VTIMEZONE
BEGIN:VEVENT
DTSTART;TZID=UTC:20260213T190000
DTEND;TZID=UTC:20260213T220000
DTSTAMP:20260424T091208
CREATED:20231218T185618Z
LAST-MODIFIED:20260109T150506Z
UID:10000046-1771009200-1771020000@www.visitspacecoast.com
SUMMARY:Rock & Roll Revue: Valentine Vibes
DESCRIPTION:What better way to celebrate Valentine’s Day than to dance with that Special Someone. Our Valentine’s Vibes Dance will give you the chance. \nArt Martin\, Conductor.\n$25.00 each
URL:https://www.visitspacecoast.com/event/rock-roll-revue-valentine-vibes/
LOCATION:Eau Gallie Civic Center\, 1551 Highland Ave\, Melbourne\, FL\, 32935\, United States
CATEGORIES:Concert/Live Music Events
ATTACH;FMTTYPE=image/jpeg:https://www.visitspacecoast.com/wp-content/uploads/2023/12/Valentine-Vibes-Thumb.jpg
END:VEVENT
END:VCALENDAR