BEGIN:VCALENDAR
VERSION:2.0
PRODID:-//Visit Space Coast - ECPv6.2.0.1//NONSGML v1.0//EN
CALSCALE:GREGORIAN
METHOD:PUBLISH
X-ORIGINAL-URL:https://www.visitspacecoast.com
X-WR-CALDESC:Events for Visit Space Coast
REFRESH-INTERVAL;VALUE=DURATION:PT1H
X-Robots-Tag:noindex
X-PUBLISHED-TTL:PT1H
BEGIN:VTIMEZONE
TZID:America/Halifax
BEGIN:DAYLIGHT
TZOFFSETFROM:-0400
TZOFFSETTO:-0300
TZNAME:ADT
DTSTART:20260308T060000
END:DAYLIGHT
BEGIN:STANDARD
TZOFFSETFROM:-0300
TZOFFSETTO:-0400
TZNAME:AST
DTSTART:20261101T050000
END:STANDARD
END:VTIMEZONE
BEGIN:VEVENT
DTSTART;TZID=America/Halifax:20260501T173000
DTEND;TZID=America/Halifax:20260501T210000
DTSTAMP:20260424T044642
CREATED:20250815T152414Z
LAST-MODIFIED:20260421T200141Z
UID:10000852-1777656600-1777669200@www.visitspacecoast.com
SUMMARY:Wickham Park First Friday Event
DESCRIPTION:Join Brevard Parks & Recreation for this rain or shine event\, with live music provided by Rios Rock Band!!\nCome satisfy your hunger needs with food from onsite food trucks such as:\n– Real Smoke N Grill\n– Real Jamican Jerk\n– Sweets & Meats\n– 321 Popcorn & Stuff\n– Indian River Smoke House\n– Main Squeeze Lemonade\n– Cruisin Vana
URL:https://www.visitspacecoast.com/event/wickham-park-first-friday-event/
LOCATION:WICKHAM PARK\, WICKHAM PARK 2500 Parkway Dr\, Melbourne\, FL\, 32935
CATEGORIES:Concert/Live Music Events,Festivals,Kid Friendly Events
ATTACH;FMTTYPE=image/jpeg:https://www.visitspacecoast.com/wp-content/uploads/2025/08/Wickham-Park-First-Friday-Event.jpeg
END:VEVENT
BEGIN:VEVENT
DTSTART;TZID=America/Halifax:20260513T190000
DTEND;TZID=America/Halifax:20260514T210000
DTSTAMP:20260424T044642
CREATED:20240916T145828Z
LAST-MODIFIED:20260326T185605Z
UID:10000304-1778698800-1778792400@www.visitspacecoast.com
SUMMARY:3-2-1 Jazz Orchestra: Hometown Composers
DESCRIPTION:FREE CONCERT. Kurt Schulenburg\, Conductor
URL:https://www.visitspacecoast.com/event/3-2-1-jazz-orchestra-hometown-composers/
LOCATION:MELBOURNE AUDITORIUM\, 625 E Hibiscus Blvd 32901\, Melbourne\, FL\, 32901
CATEGORIES:Concert/Live Music Events
ATTACH;FMTTYPE=image/jpeg:https://www.visitspacecoast.com/wp-content/uploads/2024/09/Hometown-Composers-Thumb.jpg
END:VEVENT
BEGIN:VEVENT
DTSTART;TZID=America/Halifax:20260517T140000
DTEND;TZID=America/Halifax:20260517T160000
DTSTAMP:20260424T044642
CREATED:20260109T154422Z
LAST-MODIFIED:20260109T154422Z
UID:10001271-1779026400-1779033600@www.visitspacecoast.com
SUMMARY:Jazz Concert by the Eastern Florida State College Jazz Band
DESCRIPTION:The Eastern Florida State College Jazz Band will bring energy & inspiration with a lively program showcasing the strong musicianship of the college’s jazz students. \nUnder the guidance of Jon Oxford\, Director of Instrumental Music and seasoned educators\, the ensemble performs a mix of classic and contemporary jazz styles\, giving audiences a chance to hear developing artists as they sharpen their craft. This concert offers a spirited display of talent and teamwork\, reflecting the college’s commitment to jazz education. \nGeneral admission is paid at the door. $30 for members of the Jazz Society & Brevard Veterans Memorial Center. $35 for guests & students are FREE. Bring a snack & drink if you’d like. Tables\, chairs & a beautiful view of the river are provided.
URL:https://www.visitspacecoast.com/event/jazz-concert-by-the-eastern-florida-state-college-jazz-band/
LOCATION:Brevard Veterans Memorial Center\, 400 S Sykes Creek Pkwy\, Merritt Island\, FL\, 32952\, United States
CATEGORIES:Concert/Live Music Events
ATTACH;FMTTYPE=image/png:https://www.visitspacecoast.com/wp-content/uploads/2026/01/Jazz-Concert-by-the-Eastern-Florida-State-College-Jazz-Band.png
END:VEVENT
BEGIN:VEVENT
DTSTART;TZID=America/Halifax:20260524T193000
DTEND;TZID=America/Halifax:20260524T223000
DTSTAMP:20260424T044642
CREATED:20250624T144407Z
LAST-MODIFIED:20250624T144407Z
UID:10000807-1779651000-1779661800@www.visitspacecoast.com
SUMMARY:BEETLEJUICE
DESCRIPTION:He earned his stripes on Broadway… now the ghost-with-the-most is coming to Melbourne. \nIt’s showtime! Based on Tim Burton’s dearly beloved film\, this hilarious musical tells the story of Lydia Deetz\, a strange and unusual teenager whose whole life changes when she meets a recently deceased couple and a demon with a thing for stripes. With an irreverent book\, an astonishing set\, and a score that’s out of this Netherworld\, BEETLEJUICE is “SCREAMINGLY GOOD FUN!” (Variety). And under its uproarious surface (six feet under\, to be exact)\, it’s a remarkably touching show about family\, love\, and making the most of every Day-O!
URL:https://www.visitspacecoast.com/event/beetlejuice/
LOCATION:KING CENTER FOR THE PERFORMING ARTS\, 3865 N Wickham Rd\, Melbourne\, FL\, 32935
CATEGORIES:Concert/Live Music Events,Cultural Events
ATTACH;FMTTYPE=image/jpeg:https://www.visitspacecoast.com/wp-content/uploads/2025/06/BEETLEJUICE-Logo.jpg
END:VEVENT
END:VCALENDAR