BEGIN:VCALENDAR
VERSION:2.0
PRODID:-//Visit Space Coast - ECPv6.2.0.1//NONSGML v1.0//EN
CALSCALE:GREGORIAN
METHOD:PUBLISH
X-ORIGINAL-URL:https://www.visitspacecoast.com
X-WR-CALDESC:Events for Visit Space Coast
REFRESH-INTERVAL;VALUE=DURATION:PT1H
X-Robots-Tag:noindex
X-PUBLISHED-TTL:PT1H
BEGIN:VTIMEZONE
TZID:America/Halifax
BEGIN:DAYLIGHT
TZOFFSETFROM:-0400
TZOFFSETTO:-0300
TZNAME:ADT
DTSTART:20260308T060000
END:DAYLIGHT
BEGIN:STANDARD
TZOFFSETFROM:-0300
TZOFFSETTO:-0400
TZNAME:AST
DTSTART:20261101T050000
END:STANDARD
TZID:UTC
BEGIN:STANDARD
TZOFFSETFROM:+0000
TZOFFSETTO:+0000
TZNAME:UTC
DTSTART:20260101T000000
END:STANDARD
END:VTIMEZONE
BEGIN:VEVENT
DTSTART;TZID=America/Halifax:20260301T200000
DTEND;TZID=America/Halifax:20260301T223000
DTSTAMP:20260424T060512
CREATED:20250722T143426Z
LAST-MODIFIED:20250722T143426Z
UID:10000826-1772395200-1772404200@www.visitspacecoast.com
SUMMARY:Swan Lake
DESCRIPTION:Classical Arts Entertainment\, State Ballet Theatre of Ukraine and your Space Coast Symphony Orchestra bring the matchless beauty of Swan Lake to the stage at The King Center. Swan Lake is a timeless masterpiece of classical ballet\, featuring a moonlit lake\, swan maidens\, and true love. Accompanied by one of Tchaikovsky’s most famous and memorable scores\, Swan Lake tells the story of Prince Siegfried’s love for Odette\, a beautiful princess turned into a swan by a sorcerer’s curse. With over 200 custom scenery pieces adding grandeur and beauty\, this production promises to be a spectacular visual treat. Book your tickets now and be transported into a world of enchantment\, where the beauty of dance and the power of love intertwine in a truly captivating performance. Live orchestral music\, elegant costumes\, an unparalleled setting and aspiring talent all come together for a Swan Lake that is sure to enchant audiences of all ages with its story\, beauty\, and splendor.
URL:https://www.visitspacecoast.com/event/swan-lake-2/
LOCATION:MAXWELL C. KING CENTER FOR THE PERFORMING ARTS\, 3865 N Wickham Rd\, Melbourne\, FL\, 32935
CATEGORIES:Concert/Live Music Events
ATTACH;FMTTYPE=image/jpeg:https://www.visitspacecoast.com/wp-content/uploads/2025/07/Swan-Lake-Banner.jpg
END:VEVENT
BEGIN:VEVENT
DTSTART;TZID=UTC:20260304T190000
DTEND;TZID=UTC:20260305T210000
DTSTAMP:20260424T060512
CREATED:20240205T184814Z
LAST-MODIFIED:20260309T150839Z
UID:10000097-1772650800-1772744400@www.visitspacecoast.com
SUMMARY:3-2-1 Jazz Orchestra: TV Tunes Tonight 4
DESCRIPTION:FREE CONCERT. Kurt Schulenburg\, Conductor. n its fourth season of TV Tunes Tonight\, the 3-2-1 Jazz Orchestra’s “As Seen On TV” brings the soundtrack of your favorite shows to life. Don’t touch that dial – even during those commercials – or you’ll miss the ultimate channel-surfing experience — live and in living color!\nPreshow: New Horizons Band of Melbourne at 6:00 PM
URL:https://www.visitspacecoast.com/event/3-2-1-jazz-orchestra-concert-tv-tunes-tonight/
LOCATION:MELBOURNE AUDITORIUM\, 625 E Hibiscus Blvd 32901\, Melbourne\, FL\, 32901
CATEGORIES:Concert/Live Music Events
ATTACH;FMTTYPE=image/jpeg:https://www.visitspacecoast.com/wp-content/uploads/2024/02/TV-Tunes-Tonight-4-Thumb.jpg
END:VEVENT
BEGIN:VEVENT
DTSTART;TZID=America/Halifax:20260307T180000
DTEND;TZID=America/Halifax:20260307T220000
DTSTAMP:20260424T060512
CREATED:20260122T192916Z
LAST-MODIFIED:20260122T192916Z
UID:10001279-1772906400-1772920800@www.visitspacecoast.com
SUMMARY:50's Sock Hop
DESCRIPTION:A ticketed event and fundraiser for Cocoa Beach Main Street\, 501c3. Join us for a fun night celebrating the 1950’s. Dress in your best 1950’s party clothes. There will be a lip sync and costume contest\, root beer floats\, dinner\, and cash bar. Live entertainment throughout the night with the Let’s Dance troupe\, Cocoa Beach High School Drama Club\, and DJ JP will be spinning 50’s tunes! All proceeds raised go to Cocoa Beach Main Street a 501c3 organization dedicated to preserving downtown Cocoa Beach and the community.
URL:https://www.visitspacecoast.com/event/50s-sock-hop/
LOCATION:Cocoa Beach Country Club\, 5000 Tom Warriner Blvd\, Cocoa Beach\, FL\, 32931\, United States
CATEGORIES:Concert/Live Music Events,Cultural Events,Festivals
ATTACH;FMTTYPE=image/png:https://www.visitspacecoast.com/wp-content/uploads/2026/01/Sock-Hop-FB-AD-1.png
END:VEVENT
BEGIN:VEVENT
DTSTART;TZID=America/Halifax:20260308T140000
DTEND;TZID=America/Halifax:20260308T160000
DTSTAMP:20260424T060512
CREATED:20260109T151213Z
LAST-MODIFIED:20260109T151242Z
UID:10001270-1772978400-1772985600@www.visitspacecoast.com
SUMMARY:Jazz Concert by Bassist Ron Pirtle & Friends
DESCRIPTION:Ron Pirtle is “one of the most sought after bassists in Brevard County”\, according to Florida Today news. \nHe is an Ohio farm boy by heritage\, a retired mail carrier\, and an exceptional bass player. His music journey began at the age of 12 when his parents gave him an electric bass guitar. His brother played lead guitar\, so the two boys formed a rock and roll band. Ron’s proficiency grew with the music and his bass\, and soon he was much in demand by other bands. Ron traveled throughout Ohio and neighboring Pennsylvania\, playing music. \nHe discovered blues and jazz when he worked with an older blues piano player and switched to upright acoustic bass. From there\, he nurtured his talent and love for this pure American art form. \nCurrently\, Ron works a couple of regular weekly night club gigs and takes other dates when they come available. He leads his own jazz group\, the Ron Pirtle Quintet\, and has recorded a CD\, “Gettin’ in the Groove”\, with that group. In the meantime\, Ron can be heard playing his bass all over Central Florida.\nGeneral admission is paid at the door. $30 for members of the Jazz Society and Brevard Veterans Memorial Center. $35 for guests and students are FREE. Bring your own food and drinks\, Tables\, chairs and a beautiful view of the river are provided.
URL:https://www.visitspacecoast.com/event/jazz-concert-by-bassist-ron-pirtle-friends/
LOCATION:Brevard Veterans Memorial Center\, 400 S Sykes Creek Pkwy\, Merritt Island\, FL\, 32952\, United States
CATEGORIES:Concert/Live Music Events
ATTACH;FMTTYPE=image/png:https://www.visitspacecoast.com/wp-content/uploads/2026/01/Jazz-Concert-by-Bassist-Ron-Pirtle-Friends-Thumb.png
END:VEVENT
BEGIN:VEVENT
DTSTART;TZID=America/Halifax:20260314T140000
DTEND;TZID=America/Halifax:20260314T160000
DTSTAMP:20260424T060512
CREATED:20250919T151936Z
LAST-MODIFIED:20250919T151936Z
UID:10001168-1773496800-1773504000@www.visitspacecoast.com
SUMMARY:BSO Exclusively Tchaikovsky
DESCRIPTION:Tchaikovsky not only captured the depth of human emotion in his music\, but also the sense of fate we all feel. This all-Tchaikovsky concert welcomes pianist Natasha Paremski for Tchaikovsky’s dynamic and virtuosic Piano Concerto No. 1. The BSO closes the concert with Tchaikovsky’s powerful and expressive Symphony No. 4. \nMatinee Performance: 2:00pm – 4:00pm\, Evening Performance: 7:30pm – 9:30pm
URL:https://www.visitspacecoast.com/event/bso-exclusively-tchaikovsky/
LOCATION:KING CENTER FOR THE PERFORMING ARTS\, 3865 N Wickham Rd\, Melbourne\, FL\, 32935
CATEGORIES:Concert/Live Music Events,Cultural Events
ATTACH;FMTTYPE=image/jpeg:https://www.visitspacecoast.com/wp-content/uploads/2025/09/BSO-Exclusively-Tchaikovsky-Flyer.jpg
END:VEVENT
BEGIN:VEVENT
DTSTART;TZID=UTC:20260315T150000
DTEND;TZID=UTC:20260315T170000
DTSTAMP:20260424T060512
CREATED:20240219T192700Z
LAST-MODIFIED:20260212T155243Z
UID:10000105-1773586800-1773594000@www.visitspacecoast.com
SUMMARY:Rock & Roll Revue: Springtime Swing Concert
DESCRIPTION:FREE CONCERT. \nArt Martin\, Conductor. \nWe’re gonna play all the great songs from the 50’s\, 60’s\, & 70’s. You know the tunes.
URL:https://www.visitspacecoast.com/event/rock-roll-revue-springtime-swing-concert/
LOCATION:Suntree United Methodist Church\, 7400 N Wickham Rd\, Melbourne\, 32940\, United States
CATEGORIES:Concert/Live Music Events
ATTACH;FMTTYPE=image/jpeg:https://www.visitspacecoast.com/wp-content/uploads/2024/02/Springtime-Swing-Thumb.jpg
END:VEVENT
BEGIN:VEVENT
DTSTART;TZID=America/Halifax:20260321T190000
DTEND;TZID=America/Halifax:20260321T213000
DTSTAMP:20260424T060512
CREATED:20250722T144212Z
LAST-MODIFIED:20250722T144212Z
UID:10000827-1774119600-1774128600@www.visitspacecoast.com
SUMMARY:Rodgers & Hammerstein’s Carousel: A Concert
DESCRIPTION:Your Space Coast Symphony Orchestra presents one of the most beloved American musicals of all time\, Rodgers & Hammerstein’s Carousel. This iconic work celebrated its 80th anniversary in 2025. Featuring unforgettable songs including “If I Loved You” and “You’ll Never Walk Alone\,” this timeless Broadway classic has been praised for its poignant storyline\, memorable characters\, and unforgettable score. Rarely heard in its original full-scale orchestration\, SCSO’s concert production\, with limited theatrical elements\, showcases the music above all else. Set in a seaside town in Maine\, Carousel follows the love story of Billy Bigelow\, a handsome but troubled carousel barker\, and Julie Jordan\, a young mill worker. It is the enduring tale of love\, redemption\, and the struggle to find our place in the world. \nTickets are $35 in advance for adults\, available through the orchestra website at SpaceCoastSymphony.org or at Marine Bank & Trust in Suntree. Tickets at the door are $40. Concertgoers aged 18 and under or with a college ID are admitted free to every SCSO concert. In keeping with their mission\, the symphony provides a unique Symphony for Everyone ticketing program\, a “pay-what-you-can” option designed to provide substantially discounted admission to any Space Coast Symphony concert.
URL:https://www.visitspacecoast.com/event/rodgers-hammersteins-carousel-a-concert/
LOCATION:Satellite High School Performing Arts Center\, 300 Scorpion Court\, Satellite Beach\, FL\, 32937\, United States
CATEGORIES:Concert/Live Music Events
ATTACH;FMTTYPE=image/jpeg:https://www.visitspacecoast.com/wp-content/uploads/2025/07/Rodgers-Hammersteins-Carousel-A-Concert-Banner.jpg
END:VEVENT
BEGIN:VEVENT
DTSTART;TZID=America/Halifax:20260328T120000
DTEND;TZID=America/Halifax:20260328T220000
DTSTAMP:20260424T060512
CREATED:20260127T152524Z
LAST-MODIFIED:20260127T152524Z
UID:10001284-1774699200-1774735200@www.visitspacecoast.com
SUMMARY:Boots\, Beer\, Bourbon\, & BBQ Music Fest
DESCRIPTION:The Space Coast Boots\, Beer\, Bourbon & BBQ event is a lively\, Southern‑style celebration that blends great music\, bold flavors\, and a laid‑back Florida vibe. \nIt brings together craft beer and beer tastings\, smooth bourbon tastings\, and slow‑smoked barbecue\, all set to a backdrop of live country music and family‑friendly fun.
URL:https://www.visitspacecoast.com/event/boots-beer-bourbon-bbq-music-fest/
LOCATION:Merritt Island Veterans Memorial Amphitheater\, 555 Fortenberry Rd\, Merritt Island\, FL\, 32952\, United States
CATEGORIES:Concert/Live Music Events,Festivals,Food & Drink Events,Kid Friendly Events
ATTACH;FMTTYPE=image/png:https://www.visitspacecoast.com/wp-content/uploads/2026/01/Boots-beer-bourbon-bbq-banner.png
END:VEVENT
BEGIN:VEVENT
DTSTART;TZID=America/Halifax:20260328T193000
DTEND;TZID=America/Halifax:20260328T213000
DTSTAMP:20260424T060512
CREATED:20250919T152741Z
LAST-MODIFIED:20250919T152741Z
UID:10001169-1774726200-1774733400@www.visitspacecoast.com
SUMMARY:BSO Tropical Rock
DESCRIPTION:Time to celebrate the vibe\, the breeze\, and the legendary tropical songs of Jimmy Buffett\, Bob Marley\, Van Morrison\, The Beach Boys\, and more. Sing along to “Come Monday\,” “Fins\,” “Under the Boardwalk\,” “Kokomo\,” “Don’t Worry\, Be Happy\,” “It’s Five O’Clock Somewhere\,” “Brown-Eyed Girl” and so many more.
URL:https://www.visitspacecoast.com/event/bso-tropical-rock/
LOCATION:KING CENTER FOR THE PERFORMING ARTS\, 3865 N Wickham Rd\, Melbourne\, FL\, 32935
CATEGORIES:Concert/Live Music Events,Cultural Events
ATTACH;FMTTYPE=image/jpeg:https://www.visitspacecoast.com/wp-content/uploads/2025/09/BSO-Tropical-Rock-Flyer.jpg
END:VEVENT
BEGIN:VEVENT
DTSTART;TZID=America/Halifax:20260328T193000
DTEND;TZID=America/Halifax:20260328T213000
DTSTAMP:20260424T060512
CREATED:20260225T150457Z
LAST-MODIFIED:20260225T150457Z
UID:10001296-1774726200-1774733400@www.visitspacecoast.com
SUMMARY:Tropical Rock - Brevard Symphony Orchestra
DESCRIPTION:Time to celebrate the vibe\, the breeze\, and the legendary tropical songs of Jimmy Buffet\, Bob Marley\, Van Morrison\, The Beach Boys\, and more! With professional singers backed by the Brevard SYmphony Orchestra\, we will celebrate with hits like “come Monday”\, “Kokomo”\, “Don’t Worry\, Be Happy”\, “It’s Five O ‘Clock Somewhere”\, and more.
URL:https://www.visitspacecoast.com/event/tropical-rock-brevard-symphony-orchestra/
LOCATION:KING CENTER FOR THE PERFORMING ARTS\, 3865 N Wickham Rd\, Melbourne\, FL\, 32935
CATEGORIES:Concert/Live Music Events
ATTACH;FMTTYPE=image/png:https://www.visitspacecoast.com/wp-content/uploads/2026/02/Tropical-Rock-Brevard-Symphony-Orchestra-Flyer.png
END:VEVENT
END:VCALENDAR