BEGIN:VCALENDAR
VERSION:2.0
PRODID:-//Visit Space Coast - ECPv6.2.0.1//NONSGML v1.0//EN
CALSCALE:GREGORIAN
METHOD:PUBLISH
X-WR-CALNAME:Visit Space Coast
X-ORIGINAL-URL:https://www.visitspacecoast.com
X-WR-CALDESC:Events for Visit Space Coast
REFRESH-INTERVAL;VALUE=DURATION:PT1H
X-Robots-Tag:noindex
X-PUBLISHED-TTL:PT1H
BEGIN:VTIMEZONE
TZID:America/Halifax
BEGIN:DAYLIGHT
TZOFFSETFROM:-0400
TZOFFSETTO:-0300
TZNAME:ADT
DTSTART:20260308T060000
END:DAYLIGHT
BEGIN:STANDARD
TZOFFSETFROM:-0300
TZOFFSETTO:-0400
TZNAME:AST
DTSTART:20261101T050000
END:STANDARD
TZID:UTC
BEGIN:STANDARD
TZOFFSETFROM:+0000
TZOFFSETTO:+0000
TZNAME:UTC
DTSTART:20260101T000000
END:STANDARD
END:VTIMEZONE
BEGIN:VEVENT
DTSTART;TZID=America/Halifax:20260207T090000
DTEND;TZID=America/Halifax:20260207T140000
DTSTAMP:20260424T074045
CREATED:20260115T144347Z
LAST-MODIFIED:20260115T144347Z
UID:10001278-1770454800-1770472800@www.visitspacecoast.com
SUMMARY:Southsiders VW Winter Blitz IX at Intracoastal Brewing Company
DESCRIPTION:It’s that time of year! Join the Southsiders at Intracoastal Brewing Company for their annual VW Show on Saturday February 7th from 9am – 2pm!\nIntracoastal will be opening early and will be filled with VW’s – we’ll also be featuring Live Music from Will Brant from 10am – 2pm\nProceeds from the show will benefit the Brevard County Animal Care Shelter who will be on site and accepting donation items – follow along for information on how you can help support! \nInterested in entering your vehicle? Entry Fee is $10 and a donation to the animal shelter the day of the show and there will be 7 trophy’s up for grabs\, here’s this year’s categories -> \n\n1st\, 2nd and 3rd place\nPick of the litter\nMost Likely To Be Towed\nBrewers choice\nFurthest driven\n\nMark your calendars and stay tuned on Facebook & Instagram- we’ll have more fun updates heading your way!
URL:https://www.visitspacecoast.com/event/southsiders-vw-winter-blitz-ix-at-intracoastal-brewing-company/
LOCATION:Intracoastal Brewing Company\, 652 W Eau Gallie Blvd\, Melbourne\, FL\, 32935\, United States
CATEGORIES:Concert/Live Music Events,Festivals,Food & Drink Events
ATTACH;FMTTYPE=image/png:https://www.visitspacecoast.com/wp-content/uploads/2026/01/Southsiders-VW-Winter-Blitz-IX-at-Intracoastal-Brewing-Company-Flyer.png
END:VEVENT
BEGIN:VEVENT
DTSTART;TZID=America/Halifax:20260207T110000
DTEND;TZID=America/Halifax:20260208T170000
DTSTAMP:20260424T074045
CREATED:20251212T154407Z
LAST-MODIFIED:20251212T154407Z
UID:10001260-1770462000-1770570000@www.visitspacecoast.com
SUMMARY:VanFest - Vanlife Expo
DESCRIPTION:You’ve seen the Instagram posts — now is your chance to step inside and tour over 100 custom converted vans and buses! Meet the people who live on the road\, learn the how-to skills behind this epic lifestyle through hands-on workshops and DIY classes\, and explore a whole new way of travel. Meet vanlife influencers\, browse gear and solution from industry-leading sponsors and vendors\, enjoy live music and entertaininment\, and taste local favorites from food trucks. \nWhether you’re already on the road\, looking for your inspiration to get out there\, or are just van-curious\, VanFEst is THE PLACE TO BE to experience vanlife up close. Discover new possibilities and connect with a creative community built on freedome and purpose. \nGet your tickets at www.vanfestusa.com – kids are FREE and leashed/well-behaved dogs are always welcome. Free parking!
URL:https://www.visitspacecoast.com/event/vanfest-vanlife-expo/
LOCATION:SPACE COAST DAILY PARK\, 5775 Stadium Parkway\, Melbourne\, FL\, 32940
CATEGORIES:Concert/Live Music Events,Festivals,Kid Friendly Events
ATTACH;FMTTYPE=image/jpeg:https://www.visitspacecoast.com/wp-content/uploads/2025/12/VanFest-Vanlife-Expo-1.jpg
END:VEVENT
BEGIN:VEVENT
DTSTART;TZID=UTC:20260213T190000
DTEND;TZID=UTC:20260213T220000
DTSTAMP:20260424T074045
CREATED:20231218T185618Z
LAST-MODIFIED:20260109T150506Z
UID:10000046-1771009200-1771020000@www.visitspacecoast.com
SUMMARY:Rock & Roll Revue: Valentine Vibes
DESCRIPTION:What better way to celebrate Valentine’s Day than to dance with that Special Someone. Our Valentine’s Vibes Dance will give you the chance. \nArt Martin\, Conductor.\n$25.00 each
URL:https://www.visitspacecoast.com/event/rock-roll-revue-valentine-vibes/
LOCATION:Eau Gallie Civic Center\, 1551 Highland Ave\, Melbourne\, FL\, 32935\, United States
CATEGORIES:Concert/Live Music Events
ATTACH;FMTTYPE=image/jpeg:https://www.visitspacecoast.com/wp-content/uploads/2023/12/Valentine-Vibes-Thumb.jpg
END:VEVENT
BEGIN:VEVENT
DTSTART;TZID=America/Halifax:20260214T180000
DTEND;TZID=America/Halifax:20260214T210000
DTSTAMP:20260424T074045
CREATED:20260109T160159Z
LAST-MODIFIED:20260109T160159Z
UID:10001272-1771092000-1771102800@www.visitspacecoast.com
SUMMARY:Wild About You
DESCRIPTION:Spend the evening at Brevard Zoo with your special someone or your favorite group like never before! This exclusive\, after-hours event transforms our Main Plaza into an unforgettable outdoor dining and entertainment experience beneath glowing market lights including: \n\nA three-course plated dinner\nUp-close animal encounter\nProfessional photo keepsake\nLive dueling piano entertainment\nCash bar\n\nMembers: $85 per person\nNon-members: $90 per person\nTickets are final sale\, no refunds or transfers. This event is rain or shine\, in the case of inclement weather we would move the event into our event space\, The Nyami Nyami River Lodge.
URL:https://www.visitspacecoast.com/event/wild-about-you/
LOCATION:BREVARD ZOO\, 8225 N. Wickham Rd\, Melbourne\, FL\, 32935\, United States
CATEGORIES:Concert/Live Music Events,Food & Drink Events
ATTACH;FMTTYPE=image/jpeg:https://www.visitspacecoast.com/wp-content/uploads/2026/01/wild-about-you-2.jpg
END:VEVENT
BEGIN:VEVENT
DTSTART;TZID=America/Halifax:20260214T190000
DTEND;TZID=America/Halifax:20260214T210000
DTSTAMP:20260424T074045
CREATED:20250722T142455Z
LAST-MODIFIED:20250722T142455Z
UID:10000825-1771095600-1771102800@www.visitspacecoast.com
SUMMARY:Out of this World
DESCRIPTION:Get ready for an unforgettable journey across the stars as your Space Coast Symphony presents Out of this World. Back by popular demand\, experience the power and wonder of cinema’s greatest science fiction scores performed live in a thrilling\, immersive concert event. Journey to another galaxy as your Orchestra transports you into the music of science fiction’s greatest film favorites including Independence Day\, Star Wars\, Star Trek\, Interstellar\, The X-Files\, Avatar\, and more! Accompanied by images and film on screen\, prepare for an experience that will ignite your imagination and take you on a musical journey beyond the stars! Come dressed as your favorite science fiction character and prepare for an experience that’s “Out of This World!” \nTickets are $35 in advance for adults\, available through the orchestra website at SpaceCoastSymphony.org or at Marine Bank & Trust in Suntree. Tickets at the door are $40. Concertgoers aged 18 and under or with a college ID are admitted free to every SCSO concert. In keeping with their mission\, the symphony provides a unique Symphony for Everyone ticketing program\, a “pay-what-you-can” option designed to provide substantially discounted admission to any Space Coast Symphony concert.
URL:https://www.visitspacecoast.com/event/out-of-this-world/
LOCATION:Satellite High School Performing Arts Center\, 300 Scorpion Court\, Satellite Beach\, FL\, 32937\, United States
CATEGORIES:Concert/Live Music Events
ATTACH;FMTTYPE=image/jpeg:https://www.visitspacecoast.com/wp-content/uploads/2025/07/Out-of-this-World-Banner.jpg
END:VEVENT
BEGIN:VEVENT
DTSTART;TZID=UTC:20260215T140000
DTEND;TZID=UTC:20260215T160000
DTSTAMP:20260424T074045
CREATED:20240523T190332Z
LAST-MODIFIED:20260115T143739Z
UID:10000148-1771164000-1771171200@www.visitspacecoast.com
SUMMARY:Jazz Concert by Vocalist Mickey Freeman
DESCRIPTION:Jazz vocalist MICKEY FREEMAN is in concert featuring John Simon on piano\, Gene Bruno on sax\, Joe Lopez on bass & Claudio Berardi on drums.\nMickey is a self taught vocalist who began her career in Boston in 1980 when she became a member of the 30’s/40’s campy swing group\, The Boo-Bette Band\, who toured throughout New England.\nShe later formed the vocal-based group\, The Ritz which was inspired by the likes of The Manhattan Transfer and Lambert\, Hendricks & Ross. The Ritz played domestic and International jazz festivals. She toured with such artists as Dizzy Gillespie\, Woody Herman\, Gerry Mulligan\, Kenny Burrell\, The Pointer Sisters\, Phil Woods and Spyro Gyra in Finland\, Morocco and Singapore. The Ritz also released two albums\, “Steppin’ Out” and “Born To Bop” .\nMickey performed with the leader of the Rhode Island based Roomful of Blues\, Duke Robillard. And then she recorded “Livin’ The Dream” produced by Duke Robillard on Blue Duchess Records. For the next eight years\, Mickey fronted several jazz trios and quartets in New Jersey.\nMickey lives in Vero Beach\, FL\, performing regularly at The Grind & Grape Café\, Costa D’Este Hotel\, Cobalt at Vero Beach Hotel\, Vero Beach Country Club\, Vero Beach Yacht Club. \nGeneral Admission is paid at the door. $30 for members of the Jazz Society & Veterans Memorial Center\, $35 for guests & students are FREE.
URL:https://www.visitspacecoast.com/event/jazz-concert-by-vocalist-mickey-freeman/
LOCATION:Brevard Veterans Memorial Center\, 400 S Sykes Creek Pkwy\, Merritt Island\, FL\, 32952\, United States
CATEGORIES:Concert/Live Music Events
ATTACH;FMTTYPE=image/png:https://www.visitspacecoast.com/wp-content/uploads/2024/05/2026-02-15-Banner-Spotlight_Mickey-Freeman.png
END:VEVENT
BEGIN:VEVENT
DTSTART;TZID=America/Halifax:20260218T190000
DTEND;TZID=America/Halifax:20260219T220000
DTSTAMP:20260424T074045
CREATED:20260114T201922Z
LAST-MODIFIED:20260114T202039Z
UID:10001275-1771441200-1771538400@www.visitspacecoast.com
SUMMARY:MMB Concert Band: Love Notes Tales of Passion!
DESCRIPTION:This FREE CONCERT will feature guest soprano\, Rachel Murphy singing love songs by George Gershiwn. Themes of love and passion will be explored through many styles of music\, from Verdi’s Nabucco Overture\, Gershwin’s “Porgy and Bess\,” and Porter’s “Night and Day” to “Crazy LIttle Thing Called Love.” Bring someone you love to this concert!\nPreshow: Adagio Sax Quartet at 6 PM
URL:https://www.visitspacecoast.com/event/mmb-concert-band-love-notes-tales-of-passion/
LOCATION:MELBOURNE AUDITORIUM\, 625 E Hibiscus Blvd 32901\, Melbourne\, FL\, 32901
CATEGORIES:Concert/Live Music Events
ATTACH;FMTTYPE=image/jpeg:https://www.visitspacecoast.com/wp-content/uploads/2026/01/MMB-Concert-Band-Love-Notes-Tales-of-Passion.jpg
END:VEVENT
BEGIN:VEVENT
DTSTART;TZID=America/Halifax:20260220T180000
DTEND;TZID=America/Halifax:20260220T210000
DTSTAMP:20260424T074045
CREATED:20260107T164730Z
LAST-MODIFIED:20260212T143344Z
UID:10001267-1771610400-1771621200@www.visitspacecoast.com
SUMMARY:South Beaches Concert Series
DESCRIPTION:Brevard Parks and Recreation is excited to host the South Beach Concert featuring Souljam! While jamming to music\, enjoy a variety of fare from onsite food trucks.
URL:https://www.visitspacecoast.com/event/south-beaches-concert/
LOCATION:Nancy Higgs Park\, 500 Old Florida Trail\, Melbourne Beach\, FL\, 32951\, United States
CATEGORIES:Concert/Live Music Events
ATTACH;FMTTYPE=image/jpeg:https://www.visitspacecoast.com/wp-content/uploads/2026/01/South-Beaches-Concert.jpeg
END:VEVENT
BEGIN:VEVENT
DTSTART;TZID=America/Halifax:20260221T193000
DTEND;TZID=America/Halifax:20260221T213000
DTSTAMP:20260424T074045
CREATED:20250919T150805Z
LAST-MODIFIED:20250919T150805Z
UID:10001167-1771702200-1771709400@www.visitspacecoast.com
SUMMARY:BSO Hollywood's Greatest Love Themes
DESCRIPTION:Enjoy a musical night at the movies with Hollywood’s Greatest Love Themes. Vocalist Reema Schonbeck and guitarist Nik Schonbeck join the BSO in bringing iconic film music to life\, featuring unforgettable scores from Titanic\, Moulin Rouge\, Love Actually\, Dr. Zhivago\, Somewhere in Time\, The Way We Were\, and more.
URL:https://www.visitspacecoast.com/event/bso-hollywoods-greatest-love-themes/
LOCATION:KING CENTER FOR THE PERFORMING ARTS\, 3865 N Wickham Rd\, Melbourne\, FL\, 32935
CATEGORIES:Concert/Live Music Events,Cultural Events
ATTACH;FMTTYPE=image/jpeg:https://www.visitspacecoast.com/wp-content/uploads/2025/09/BSO-Hollywoods-Greatest-Love-Themes-Flyer.jpg
END:VEVENT
BEGIN:VEVENT
DTSTART;TZID=America/Halifax:20260224T200000
DTEND;TZID=America/Halifax:20260225T230000
DTSTAMP:20260424T074045
CREATED:20250624T140437Z
LAST-MODIFIED:20250624T140603Z
UID:10000805-1771963200-1772060400@www.visitspacecoast.com
SUMMARY:TINA - The Tina Turner Musical
DESCRIPTION:An uplifting comeback story like no other\, TINA – The Tina Turner Musical is the inspiring journey of a woman who broke barriers and became the Queen of Rock n’ Roll. Set to the pulse-pounding soundtrack of her most beloved hits\, this electrifying sensation will send you soaring to the rafters. \nOne of the world’s best-selling artists of all time\, Tina Turner won 12 Grammy Awards and her live shows were seen by millions\, with more concert tickets sold than any other solo performer in music history. Featuring her much loved songs\, TINA – The Tina Turner Musical is written by Pulitzer Prize-winning playwright Katori Hall. \nPerformance Schedule:\nTuesday\, Feb. 24\, 2026 – 8:00 p.m.\nWednesday\, Feb. 25\, 2026 – 8:00 p.m.
URL:https://www.visitspacecoast.com/event/tina-the-tina-turner-musical/
LOCATION:KING CENTER FOR THE PERFORMING ARTS\, 3865 N Wickham Rd\, Melbourne\, FL\, 32935
CATEGORIES:Concert/Live Music Events
ATTACH;FMTTYPE=image/jpeg:https://www.visitspacecoast.com/wp-content/uploads/2025/06/Jayna-Elise-as-Tina-Turner-in-Tina-The-Tina-Turner-Musical-Simply-the-Best_Photo-by-Julieta-Cervantes-1.jpg
END:VEVENT
END:VCALENDAR