BEGIN:VCALENDAR
VERSION:2.0
PRODID:-//Visit Space Coast - ECPv6.2.0.1//NONSGML v1.0//EN
CALSCALE:GREGORIAN
METHOD:PUBLISH
X-WR-CALNAME:Visit Space Coast
X-ORIGINAL-URL:https://www.visitspacecoast.com
X-WR-CALDESC:Events for Visit Space Coast
REFRESH-INTERVAL;VALUE=DURATION:PT1H
X-Robots-Tag:noindex
X-PUBLISHED-TTL:PT1H
BEGIN:VTIMEZONE
TZID:America/Halifax
BEGIN:DAYLIGHT
TZOFFSETFROM:-0400
TZOFFSETTO:-0300
TZNAME:ADT
DTSTART:20260308T060000
END:DAYLIGHT
BEGIN:STANDARD
TZOFFSETFROM:-0300
TZOFFSETTO:-0400
TZNAME:AST
DTSTART:20261101T050000
END:STANDARD
END:VTIMEZONE
BEGIN:VEVENT
DTSTART;TZID=America/Halifax:20260509T180000
DTEND;TZID=America/Halifax:20260509T220000
DTSTAMP:20260422T191002
CREATED:20260409T173541Z
LAST-MODIFIED:20260409T173541Z
UID:10001338-1778349600-1778364000@www.visitspacecoast.com
SUMMARY:Night Market at Intracoastal Brewing Company
DESCRIPTION:Love our Sunday Markets? While the Florida heat rolls in\, we’re hosting our first Night Market! \nMark your calendars for Saturday\, May 9th from 6-10pm. Rain or shine – it’s market time! \nCome grab a cold pint and shop from some amazing local vendors\, while enjoying Live Tunes in the beer garden – follow along on Facebook & Instagram for more details!
URL:https://www.visitspacecoast.com/event/night-market-at-intracoastal-brewing-company/
LOCATION:Intracoastal Brewing Company\, 652 W Eau Gallie Blvd\, Melbourne\, FL\, 32935\, United States
CATEGORIES:Arts & Crafts Events,Food & Drink Events
ATTACH;FMTTYPE=image/png:https://www.visitspacecoast.com/wp-content/uploads/2026/04/Night-Market_IBC_May_IG-Post-1.png
END:VEVENT
END:VCALENDAR