BEGIN:VCALENDAR
VERSION:2.0
PRODID:-//Visit Space Coast - ECPv6.2.0.1//NONSGML v1.0//EN
CALSCALE:GREGORIAN
METHOD:PUBLISH
X-ORIGINAL-URL:https://www.visitspacecoast.com
X-WR-CALDESC:Events for Visit Space Coast
REFRESH-INTERVAL;VALUE=DURATION:PT1H
X-Robots-Tag:noindex
X-PUBLISHED-TTL:PT1H
BEGIN:VTIMEZONE
TZID:America/Halifax
BEGIN:DAYLIGHT
TZOFFSETFROM:-0400
TZOFFSETTO:-0300
TZNAME:ADT
DTSTART:20260308T060000
END:DAYLIGHT
BEGIN:STANDARD
TZOFFSETFROM:-0300
TZOFFSETTO:-0400
TZNAME:AST
DTSTART:20261101T050000
END:STANDARD
END:VTIMEZONE
BEGIN:VEVENT
DTSTART;TZID=America/Halifax:20260217T160000
DTEND;TZID=America/Halifax:20260217T200000
DTSTAMP:20260421T004652
CREATED:20260107T191150Z
LAST-MODIFIED:20260107T191150Z
UID:10001269-1771344000-1771358400@www.visitspacecoast.com
SUMMARY:Fat Tuesday Mardi Gras Celebration at Intracoastal Brewing Co.
DESCRIPTION:Family Fun Night is back at Intracoastal Brewing Company!\nJoin us Tuesday\, February 17th for a Fat Tuesday Mardi Gras celebration the whole family will love! \nKids Workshops & Face Painters\nFood specials\nMagician & Balloon Artist\nFestive fun & surprises \nMark your calendars and follow along on Facebook & Instagram—we’ve got more exciting details coming your way soon!
URL:https://www.visitspacecoast.com/event/fat-tuesday-mardi-gras-celebration-at-intracoastal-brewing-co/
LOCATION:Intracoastal Brewing Company\, 652 W Eau Gallie Blvd\, Melbourne\, FL\, 32935\, United States
CATEGORIES:Arts & Crafts Events,Cultural Events,Festivals,Food & Drink Events,Kid Friendly Events,Space Related Events
ATTACH;FMTTYPE=image/png:https://www.visitspacecoast.com/wp-content/uploads/2026/01/IBC_Event_FatTuesday_IG_2025-1.png
END:VEVENT
END:VCALENDAR