BEGIN:VCALENDAR
VERSION:2.0
PRODID:-//Visit Space Coast - ECPv6.2.0.1//NONSGML v1.0//EN
CALSCALE:GREGORIAN
METHOD:PUBLISH
X-ORIGINAL-URL:https://www.visitspacecoast.com
X-WR-CALDESC:Events for Visit Space Coast
REFRESH-INTERVAL;VALUE=DURATION:PT1H
X-Robots-Tag:noindex
X-PUBLISHED-TTL:PT1H
BEGIN:VTIMEZONE
TZID:America/Halifax
BEGIN:DAYLIGHT
TZOFFSETFROM:-0400
TZOFFSETTO:-0300
TZNAME:ADT
DTSTART:20260308T060000
END:DAYLIGHT
BEGIN:STANDARD
TZOFFSETFROM:-0300
TZOFFSETTO:-0400
TZNAME:AST
DTSTART:20261101T050000
END:STANDARD
END:VTIMEZONE
BEGIN:VEVENT
DTSTART;TZID=America/Halifax:20260215T120000
DTEND;TZID=America/Halifax:20260215T160000
DTSTAMP:20260421T004730
CREATED:20250509T144149Z
LAST-MODIFIED:20260107T185701Z
UID:10000786-1771156800-1771171200@www.visitspacecoast.com
SUMMARY:Intracoastal Sunday Market - February 2026
DESCRIPTION:Intracoastal Brewing Company has another Sunday Market heading your way! \nMark your calendars for February 15th from 12-4pm. Rain or shine – it’s market time!\nCome grab a cold pint and shop from over 25+ amazing local vendors\, and stick around post-market for Live Tunes in the beer garden – stay tuned and follow along on Facebook & Instagram for more details!
URL:https://www.visitspacecoast.com/event/intracoastal-sunday-market-february-2026/
LOCATION:Intracoastal Brewing Company\, 652 W Eau Gallie Blvd\, Melbourne\, FL\, 32935\, United States
CATEGORIES:Arts & Crafts Events,Food & Drink Events
ATTACH;FMTTYPE=image/png:https://www.visitspacecoast.com/wp-content/uploads/2025/05/IBC_Event_FebMarket_IG_2025.png
END:VEVENT
END:VCALENDAR