BEGIN:VCALENDAR
VERSION:2.0
PRODID:-//Visit Space Coast - ECPv6.2.0.1//NONSGML v1.0//EN
CALSCALE:GREGORIAN
METHOD:PUBLISH
X-WR-CALNAME:Visit Space Coast
X-ORIGINAL-URL:https://www.visitspacecoast.com
X-WR-CALDESC:Events for Visit Space Coast
REFRESH-INTERVAL;VALUE=DURATION:PT1H
X-Robots-Tag:noindex
X-PUBLISHED-TTL:PT1H
BEGIN:VTIMEZONE
TZID:America/Halifax
BEGIN:DAYLIGHT
TZOFFSETFROM:-0400
TZOFFSETTO:-0300
TZNAME:ADT
DTSTART:20260308T060000
END:DAYLIGHT
BEGIN:STANDARD
TZOFFSETFROM:-0300
TZOFFSETTO:-0400
TZNAME:AST
DTSTART:20261101T050000
END:STANDARD
END:VTIMEZONE
BEGIN:VEVENT
DTSTART;TZID=America/Halifax:20261101T070000
DTEND;TZID=America/Halifax:20261101T100000
DTSTAMP:20260425T100748
CREATED:20251218T144643Z
LAST-MODIFIED:20260421T193116Z
UID:10001262-1793516400-1793527200@www.visitspacecoast.com
SUMMARY:Riverfront Triathlon at Cocoa
DESCRIPTION:Get ready for a day of thrilling competition\, breathtaking views\, an unforgettable memories at the Game On! Riverfront Tri @ Cocoa\, on Sunday\, November 1\, 2026 . Whether you’re an experienced triathlete or a first-time racer\, this event offers something for everyone!\nHeld at Cocoa’s Riverfront Park in the heart of Historic Cocoa Village\, this race provides an ideal venue for athletes and spectators alike. With multiple race options\, you can choose the challenge that suits you best—plus\, bring your friends or family along for the ride\, thanks to our relay divisions!\nRace Options for Every Athlete: \nInternational Triathlon: A classic challenge for seasoned triathletes who want to push their limits.\nInternational Duathlon: Skip the swim and compete in a run-bike-run format.\nInternational Aquabike: Swim and bike your way to victory without the run.\nSprint Triathlon: Perfect for athletes looking for a thrilling challenge.\nSprint Duathlon: A high-energy run-bike-run race designed for athletes of all levels.\nTriathlon Relay: Team up with friends or family and tackle the course together!\nRace in Paradise – Views You’ll Never Forget\nThe entire course is set against the stunning backdrop of the Indian River\, offering spectacular water views throughout your swim\, bike\, and run. Whether you’re gliding through the water\, pedaling along the scenic bike route\, or running with the river beside you\, this course is sure to inspire and motivate.
URL:https://www.visitspacecoast.com/event/riverfront-triathlon-at-cocoa/
LOCATION:Cocoa Riverfront Park\, 401 Riveredge Blvd.\, Cocoa\, FL\, 32922\, United States
CATEGORIES:5Ks/Marathons,Running Events,Sports Events
ATTACH;FMTTYPE=image/jpeg:https://www.visitspacecoast.com/wp-content/uploads/2025/12/Riverfront-Tri-run-course-map.jpg
END:VEVENT
END:VCALENDAR